BEGIN:VCALENDAR
VERSION:2.0
PRODID:-//Kundalini-Yoga - ECPv6.15.14//NONSGML v1.0//EN
CALSCALE:GREGORIAN
METHOD:PUBLISH
X-ORIGINAL-URL:https://www.yoga-augenblicke.de
X-WR-CALDESC:Veranstaltungen für Kundalini-Yoga
REFRESH-INTERVAL;VALUE=DURATION:PT1H
X-Robots-Tag:noindex
X-PUBLISHED-TTL:PT1H
BEGIN:VTIMEZONE
TZID:Europe/Berlin
BEGIN:DAYLIGHT
TZOFFSETFROM:+0100
TZOFFSETTO:+0200
TZNAME:CEST
DTSTART:20200329T010000
END:DAYLIGHT
BEGIN:STANDARD
TZOFFSETFROM:+0200
TZOFFSETTO:+0100
TZNAME:CET
DTSTART:20201025T010000
END:STANDARD
BEGIN:DAYLIGHT
TZOFFSETFROM:+0100
TZOFFSETTO:+0200
TZNAME:CEST
DTSTART:20210328T010000
END:DAYLIGHT
BEGIN:STANDARD
TZOFFSETFROM:+0200
TZOFFSETTO:+0100
TZNAME:CET
DTSTART:20211031T010000
END:STANDARD
BEGIN:DAYLIGHT
TZOFFSETFROM:+0100
TZOFFSETTO:+0200
TZNAME:CEST
DTSTART:20220327T010000
END:DAYLIGHT
BEGIN:STANDARD
TZOFFSETFROM:+0200
TZOFFSETTO:+0100
TZNAME:CET
DTSTART:20221030T010000
END:STANDARD
END:VTIMEZONE
BEGIN:VEVENT
DTSTART;TZID=Europe/Berlin:20211008T140000
DTEND;TZID=Europe/Berlin:20211010T140000
DTSTAMP:20260423T214649
CREATED:20191203T123754Z
LAST-MODIFIED:20210712T150033Z
UID:7705-1633701600-1633874400@www.yoga-augenblicke.de
SUMMARY:Yoga & Stille im Kloster
DESCRIPTION:  \nTimeout statt Burnout\nIst Ihr Alltag stark fordernd? Sehnen Sie sich nach einer Auszeit?\nKommen Sie mit mir ins Kloster und gönnen Sie sich eine Auszeit.\nTanken Sie Kraft und profitieren Sie von Jahrtausende altem Wissen\nder Yogis und der Mönche. \nTun sie etwas für Körper\, Geist und Seele. \n  \nMein Angebot\nÜbernachtung mit Frühstück\, Nachmittag Tee/Kuchen\, 2 x täglich Yoga\nYoga: lösen von Blockaden und Spannungen\nMeditation: zur Stille kommen\nYogische Betrachtungen zu gewählten Themen: Neue Perspektiven\nSpaziergänge: Harmonie zwischen Körper\, Geist und Seele\nNette Begegnungen und Tipps für einen gelassenen Alltag\n  \nKloster Aldersbach\nDas Kloster Aldersbach wurde im Jahre 1146 durch Mönche des oberfränkischen Zisterzienserklosters Ebrach gegründet. Diese übernahmen das Augustiner Chorherrenstift in Aldersbach St. Peter und errichteten die heutige Klosteranlage. Im 18. Jahrhundert wurde das prunkvolle Kloster durch politischen\, wirtschaftlichen und kulturellen Aufschwung geprägt. Wirtschaftlich zählte das Prälatenkloster zu den reichsten im Lande.\nRestaurant & Hotel „das asam“ trifft außergewöhnliches Ambiente auf exzellente Küche und freundlichen Service. \nWir machen Ihre Veranstaltung zu einem besonderen Event\, an das Sie sich immer gerne erinnern werden. Gastfreundschaft. Ruhe. Sein. Unser Hotel bietet Ihnen Zimmer in modernem Design und traditioneller Gastlichkeit. Alle Zimmer sind mit Dusche und WC ausgestattet. Kostenloses WLAN steht im gesamten Hotel zur Verfügung. \n  \n\nHier kannst Du dir alle Informationen als PDF herunterladen.\n\nDu möchtest mit dabei sein?\nMelde Dich per E-Mail an!\n 
URL:https://www.yoga-augenblicke.de/event/yoga-stille-im-kloster-2/
LOCATION:Aldersbach
CATEGORIES:Journey
ATTACH;FMTTYPE=image/jpeg:https://www.yoga-augenblicke.de/wp-content/uploads/2017/05/c0018a08-5028-4e04-b55f-780ac687dd34.jpg
END:VEVENT
END:VCALENDAR