BEGIN:VCALENDAR
VERSION:2.0
PRODID:-//Kundalini-Yoga - ECPv6.15.14//NONSGML v1.0//EN
CALSCALE:GREGORIAN
METHOD:PUBLISH
X-ORIGINAL-URL:https://www.yoga-augenblicke.de
X-WR-CALDESC:Veranstaltungen für Kundalini-Yoga
REFRESH-INTERVAL;VALUE=DURATION:PT1H
X-Robots-Tag:noindex
X-PUBLISHED-TTL:PT1H
BEGIN:VTIMEZONE
TZID:Europe/Berlin
BEGIN:DAYLIGHT
TZOFFSETFROM:+0100
TZOFFSETTO:+0200
TZNAME:CEST
DTSTART:20220327T010000
END:DAYLIGHT
BEGIN:STANDARD
TZOFFSETFROM:+0200
TZOFFSETTO:+0100
TZNAME:CET
DTSTART:20221030T010000
END:STANDARD
BEGIN:DAYLIGHT
TZOFFSETFROM:+0100
TZOFFSETTO:+0200
TZNAME:CEST
DTSTART:20230326T010000
END:DAYLIGHT
BEGIN:STANDARD
TZOFFSETFROM:+0200
TZOFFSETTO:+0100
TZNAME:CET
DTSTART:20231029T010000
END:STANDARD
BEGIN:DAYLIGHT
TZOFFSETFROM:+0100
TZOFFSETTO:+0200
TZNAME:CEST
DTSTART:20240331T010000
END:DAYLIGHT
BEGIN:STANDARD
TZOFFSETFROM:+0200
TZOFFSETTO:+0100
TZNAME:CET
DTSTART:20241027T010000
END:STANDARD
END:VTIMEZONE
BEGIN:VEVENT
DTSTART;VALUE=DATE:20230707
DTEND;VALUE=DATE:20230708
DTSTAMP:20260422T122248
CREATED:20230102T232113Z
LAST-MODIFIED:20230414T133949Z
UID:8484-1688688000-1688774399@www.yoga-augenblicke.de
SUMMARY:Yoga & Kräuterspaziergang
DESCRIPTION:Nach einer entspannten Yogastunde werden wir viele Pflanzen zum Heilen und Essen sammeln. \nVon 17.00 – 18.00 Yoga mit Margit von 18.00 – 19.30 Uhr Kräuterspaziergang mit Anna. \nTreffpunkt: An der Leite (Eichenau/an der Treppe)\nBitte bringe deine Yogamatte und eine Box für die Kräuter mit. \nKosten: 30\,00 Euro\nAnmeldung erforderlich.
URL:https://www.yoga-augenblicke.de/event/yoga-kraeuterspaziergang/
CATEGORIES:Journey
ATTACH;FMTTYPE=image/jpeg:https://www.yoga-augenblicke.de/wp-content/uploads/2017/04/4f2f1079-2754-40b7-a513-60886a87ea9e.jpg
END:VEVENT
END:VCALENDAR