BEGIN:VCALENDAR
VERSION:2.0
PRODID:-//Kundalini-Yoga - ECPv6.15.14//NONSGML v1.0//EN
CALSCALE:GREGORIAN
METHOD:PUBLISH
X-ORIGINAL-URL:https://www.yoga-augenblicke.de
X-WR-CALDESC:Veranstaltungen für Kundalini-Yoga
REFRESH-INTERVAL;VALUE=DURATION:PT1H
X-Robots-Tag:noindex
X-PUBLISHED-TTL:PT1H
BEGIN:VTIMEZONE
TZID:Europe/Berlin
BEGIN:DAYLIGHT
TZOFFSETFROM:+0100
TZOFFSETTO:+0200
TZNAME:CEST
DTSTART:20230326T010000
END:DAYLIGHT
BEGIN:STANDARD
TZOFFSETFROM:+0200
TZOFFSETTO:+0100
TZNAME:CET
DTSTART:20231029T010000
END:STANDARD
BEGIN:DAYLIGHT
TZOFFSETFROM:+0100
TZOFFSETTO:+0200
TZNAME:CEST
DTSTART:20240331T010000
END:DAYLIGHT
BEGIN:STANDARD
TZOFFSETFROM:+0200
TZOFFSETTO:+0100
TZNAME:CET
DTSTART:20241027T010000
END:STANDARD
BEGIN:DAYLIGHT
TZOFFSETFROM:+0100
TZOFFSETTO:+0200
TZNAME:CEST
DTSTART:20250330T010000
END:DAYLIGHT
BEGIN:STANDARD
TZOFFSETFROM:+0200
TZOFFSETTO:+0100
TZNAME:CET
DTSTART:20251026T010000
END:STANDARD
END:VTIMEZONE
BEGIN:VEVENT
DTSTART;VALUE=DATE:20240426
DTEND;VALUE=DATE:20240429
DTSTAMP:20260420T002905
CREATED:20240119T152236Z
LAST-MODIFIED:20240119T152236Z
UID:8571-1714089600-1714348799@www.yoga-augenblicke.de
SUMMARY:Yoga Wochenende in Südtirol
DESCRIPTION:Ein altes Bauernhaus\, hoch oben auf dem Ritten\, Weitsicht\, Einfachheit\, Naturbadeteich\, Erdphänomene\, und\,und\,und …\nEin Wochenende für Körper\, Geist und Seele.\n2x täglich Yoga und Meditation \nHalbpension\nWandern\nVorträge\n…
URL:https://www.yoga-augenblicke.de/event/yoga-wochenende-in-suedtirol/
CATEGORIES:Journey
ATTACH;FMTTYPE=image/jpeg:https://www.yoga-augenblicke.de/wp-content/uploads/2017/04/53695969-4172-4241-ba06-31a9c0df11f1.jpg
END:VEVENT
END:VCALENDAR